BEGIN:VCALENDAR
VERSION:2.0
PRODID:-//Mai 68 Info - ECPv4.6.10.1//NONSGML v1.0//EN
CALSCALE:GREGORIAN
METHOD:PUBLISH
X-WR-CALNAME:Mai 68 Info
X-ORIGINAL-URL:http://mai68.info
X-WR-CALDESC:Events for Mai 68 Info
BEGIN:VEVENT
DTSTART;VALUE=DATE:20180522
DTEND;VALUE=DATE:20180531
DTSTAMP:20260423T093326
CREATED:20180420T182154Z
LAST-MODIFIED:20180420T182302Z
UID:264-1526947200-1527724799@mai68.info
SUMMARY:Paris. Exposition. Mai 68 - mai 2018. D'une jeunesse à l'autre
DESCRIPTION: \n
URL:http://mai68.info/event/paris-exposition-mai-68-mai-2018-dune-jeunesse-a-lautre
END:VEVENT
END:VCALENDAR