BEGIN:VCALENDAR
VERSION:2.0
PRODID:-//Mai 68 Info - ECPv4.6.10.1//NONSGML v1.0//EN
CALSCALE:GREGORIAN
METHOD:PUBLISH
X-WR-CALNAME:Mai 68 Info
X-ORIGINAL-URL:http://mai68.info
X-WR-CALDESC:Events for Mai 68 Info
BEGIN:VEVENT
DTSTART;TZID=UTC+0:20180302T140000
DTEND;TZID=UTC+0:20180302T183000
DTSTAMP:20260423T092859
CREATED:20180302T000731Z
LAST-MODIFIED:20180302T134417Z
UID:36-1519999200-1520015400@mai68.info
SUMMARY:mai 68 vu des sud séance inaugurale
DESCRIPTION:Séance inaugurale : 2 mars 2018 à la Sorbonne\nElle aura lieu à l’«amphithéâtre Richelieu» de la Sorbonne (17 rue de la Sorbonne\, 75005)\, le vendredi 2 mars\, de 14 h 30 précises à 20 h 30 (ouverture des portes à 13 h 30). Cette séance inaugurale comportera trois tables rondes thématiques. \n1) Le contexte général mondial (modératrice : Valérie Nivelon\, journaliste à RFI) [14 h 30] \n\nÉtienne Balibar : «Des gauches nationales à la gauche globale.»\nGustave Massiah : «1965-1973\, une période révolutionnaire ?»\nBachir Ben Barka : «Les espoirs frustrés de la Tricontinentale.»\nLuciana Castellina : «La crise du mouvement communiste mondial.»\nLudivine Bantigny : «L’influence des mouvements anti-impérialistes des Suds en Europe.»\n\n2) Les luttes continentales (modératrice : Françoise Blum\, ingénieure de recherche au CNRS) [16 h 30] \n\nElias Sanbar : « Palestine\, l’émergence d’un mouvement national. »\nAmzat Boukari-Yabara : « Afrique et panafricanisme. »\nCatherine Samary : « Pays d’Europe centrale et orientale et dissidences. »\nCarmen Castillo : « Amérique latine et luttes armées. »\nAbraham Béhar : « Asie\, révolutions et réactions. »\n\n3) Les vecteurs de la révolte (modérateur : Patrick Farbiaz\, Sortir du colonialisme) [18 h 45] \n\nMichèle Riot-Sarcey : « L’émergence des luttes de femmes au Nord et… aux Suds ? »\nNils Andersson : « Le rôle des maisons d’édition alternatives dans la diffusion mondiale des idées d’émancipation de l’époque (Feltrinelli\, La Cité\, Maspero\, Wagenbach\, Présence africaine…). »\nPap Ndiaye : « L’influence des mouvements noirs des États-Unis (mouvement des droits civiques\, Black Panthers\, etc.). »\nSerge Audier : « Les différents courants de pensée autour de Mai 68. »\nPhilippe Artières : « Le rayonnement de Mai 68 dans le monde. »\n\n
URL:http://mai68.info/event/mai-68-vu-des-sud-seance-inaugurale
LOCATION:17 rue de la Sorbonne\, Paris\, 75005
CATEGORIES:Colloque
END:VEVENT
END:VCALENDAR